Package: scQTLtools Version: 1.2.0 Maintainer: Xiaofeng Wu MaintainerEmail: 1427972815 at qq.com git_url: https://git.bioconductor.org/packages/scQTLtools git_branch: RELEASE_3_22 git_last_commit: 1638397 git_last_commit_date: 2025-10-29 11:34:00 -0400 (Wed, 29 Oct 2025)