Package: scPipe Version: 2.10.0 Command: /home/biocbuild/bbs-3.22-bioc/R/bin/R CMD check --install=check:scPipe.install-out.txt --library=/home/biocbuild/bbs-3.22-bioc/R/site-library --timings scPipe_2.10.0.tar.gz StartedAt: 2025-11-01 03:58:35 -0400 (Sat, 01 Nov 2025) EndedAt: 2025-11-01 04:06:59 -0400 (Sat, 01 Nov 2025) EllapsedTime: 503.3 seconds RetCode: 0 Status: OK CheckDir: scPipe.Rcheck Warnings: 0