Package: scPipe Version: 2.9.0 Command: /Library/Frameworks/R.framework/Resources/bin/R CMD INSTALL scPipe StartedAt: 2025-10-24 15:38:43 -0400 (Fri, 24 Oct 2025) EndedAt: 2025-10-24 15:41:31 -0400 (Fri, 24 Oct 2025) EllapsedTime: 167.7 seconds RetCode: 0 Status: OK