Package: scPipe Version: 2.9.0 Command: /Library/Frameworks/R.framework/Resources/bin/R CMD build --keep-empty-dirs --no-resave-data scPipe StartedAt: 2025-10-24 18:41:25 -0400 (Fri, 24 Oct 2025) EndedAt: 2025-10-24 18:57:17 -0400 (Fri, 24 Oct 2025) EllapsedTime: 952.7 seconds RetCode: 0 Status: OK PackageFile: scPipe_2.9.0.tar.gz PackageFileSize: 12.67 MiB