Package: scPipe Version: 2.9.0 Command: /Library/Frameworks/R.framework/Resources/bin/R CMD INSTALL scPipe StartedAt: 2025-10-24 15:19:12 -0400 (Fri, 24 Oct 2025) EndedAt: 2025-10-24 15:19:56 -0400 (Fri, 24 Oct 2025) EllapsedTime: 44.0 seconds RetCode: 0 Status: OK