Package: scPipe Version: 2.9.0 Command: /Library/Frameworks/R.framework/Resources/bin/R CMD build --keep-empty-dirs --no-resave-data scPipe StartedAt: 2025-10-24 17:40:37 -0400 (Fri, 24 Oct 2025) EndedAt: 2025-10-24 17:45:57 -0400 (Fri, 24 Oct 2025) EllapsedTime: 320.6 seconds RetCode: 0 Status: OK PackageFile: scPipe_2.9.0.tar.gz PackageFileSize: 12.67 MiB