Package: scPCA Version: 1.23.0 Command: /home/biocbuild/bbs-3.22-bioc/R/bin/R CMD INSTALL scPCA StartedAt: 2025-10-24 16:02:29 -0400 (Fri, 24 Oct 2025) EndedAt: 2025-10-24 16:02:55 -0400 (Fri, 24 Oct 2025) EllapsedTime: 26.5 seconds RetCode: 0 Status: OK