Package: scPCA Version: 1.23.0 Command: /home/biocbuild/bbs-3.22-bioc/R/bin/R CMD check --install=check:scPCA.install-out.txt --library=/home/biocbuild/bbs-3.22-bioc/R/site-library --timings scPCA_1.23.0.tar.gz StartedAt: 2025-10-25 03:54:45 -0400 (Sat, 25 Oct 2025) EndedAt: 2025-10-25 04:02:12 -0400 (Sat, 25 Oct 2025) EllapsedTime: 447.3 seconds RetCode: 0 Status: OK CheckDir: scPCA.Rcheck Warnings: 0