Package: scPCA Version: 1.23.0 Command: /Library/Frameworks/R.framework/Resources/bin/R CMD INSTALL scPCA StartedAt: 2025-10-24 15:49:17 -0400 (Fri, 24 Oct 2025) EndedAt: 2025-10-24 15:49:55 -0400 (Fri, 24 Oct 2025) EllapsedTime: 38.0 seconds RetCode: 0 Status: OK