Package: scPCA Version: 1.23.0 Command: /Library/Frameworks/R.framework/Resources/bin/R CMD build --keep-empty-dirs --no-resave-data scPCA StartedAt: 2025-10-24 18:41:15 -0400 (Fri, 24 Oct 2025) EndedAt: 2025-10-24 18:47:22 -0400 (Fri, 24 Oct 2025) EllapsedTime: 366.1 seconds RetCode: 0 Status: OK PackageFile: scPCA_1.23.0.tar.gz PackageFileSize: 2.047 MiB