Package: scPCA Version: 1.23.0 Command: rm -rf scPCA.buildbin-libdir && mkdir scPCA.buildbin-libdir && /Users/biocbuild/BBS/utils/build-universal.sh scPCA_1.23.0.tar.gz /Library/Frameworks/R.framework/Resources/bin/R scPCA.buildbin-libdir StartedAt: 2025-10-25 02:03:06 -0400 (Sat, 25 Oct 2025) EndedAt: 2025-10-25 02:03:38 -0400 (Sat, 25 Oct 2025) EllapsedTime: 32.5 seconds RetCode: 0 Status: OK PackageFile: scPCA_1.23.0.tgz PackageFileSize: 2.08 MiB