Package: scMultiSim Version: 1.6.0 Command: /home/biocbuild/R/R/bin/R CMD INSTALL scMultiSim StartedAt: 2025-11-24 21:30:37 -0000 (Mon, 24 Nov 2025) EndedAt: 2025-11-24 21:31:18 -0000 (Mon, 24 Nov 2025) EllapsedTime: 40.7 seconds RetCode: 0 Status: OK