Package: scMultiSim Version: 1.6.0 Command: /home/biocbuild/R/R/bin/R CMD build --keep-empty-dirs --no-resave-data scMultiSim StartedAt: 2025-11-21 05:41:11 -0000 (Fri, 21 Nov 2025) EndedAt: 2025-11-21 05:52:51 -0000 (Fri, 21 Nov 2025) EllapsedTime: 700.2 seconds RetCode: 0 Status: OK PackageFile: scMultiSim_1.6.0.tar.gz PackageFileSize: 4.316 MiB