Package: scMultiSim Version: 1.5.0 Command: /Library/Frameworks/R.framework/Resources/bin/R CMD INSTALL scMultiSim StartedAt: 2025-10-24 15:31:55 -0400 (Fri, 24 Oct 2025) EndedAt: 2025-10-24 15:32:35 -0400 (Fri, 24 Oct 2025) EllapsedTime: 40.3 seconds RetCode: 0 Status: OK