Package: scMultiSim Version: 1.5.0 Command: rm -rf scMultiSim.buildbin-libdir && mkdir scMultiSim.buildbin-libdir && /Users/biocbuild/BBS/utils/build-universal.sh scMultiSim_1.5.0.tar.gz /Library/Frameworks/R.framework/Resources/bin/R scMultiSim.buildbin-libdir StartedAt: 2025-10-25 02:02:54 -0400 (Sat, 25 Oct 2025) EndedAt: 2025-10-25 02:03:36 -0400 (Sat, 25 Oct 2025) EllapsedTime: 41.7 seconds RetCode: 0 Status: OK PackageFile: scMultiSim_1.5.0.tgz PackageFileSize: 5.759 MiB