Package: scMitoMut Version: 1.6.0 Command: /home/biocbuild/bbs-3.22-bioc/R/bin/R CMD check --install=check:scMitoMut.install-out.txt --library=/home/biocbuild/bbs-3.22-bioc/R/site-library --timings scMitoMut_1.6.0.tar.gz StartedAt: 2025-11-03 04:06:01 -0500 (Mon, 03 Nov 2025) EndedAt: 2025-11-03 04:07:25 -0500 (Mon, 03 Nov 2025) EllapsedTime: 83.1 seconds RetCode: 0 Status: OK CheckDir: scMitoMut.Rcheck Warnings: 0