Package: scMitoMut Version: 1.5.0 Command: /Library/Frameworks/R.framework/Resources/bin/R CMD build --keep-empty-dirs --no-resave-data scMitoMut StartedAt: 2025-10-28 18:38:00 -0400 (Tue, 28 Oct 2025) EndedAt: 2025-10-28 18:38:50 -0400 (Tue, 28 Oct 2025) EllapsedTime: 50.0 seconds RetCode: 0 Status: OK PackageFile: scMitoMut_1.5.0.tar.gz PackageFileSize: 1.186 MiB