Package: scMitoMut Version: 1.5.0 Command: rm -rf scMitoMut.buildbin-libdir && mkdir scMitoMut.buildbin-libdir && /Users/biocbuild/BBS/utils/build-universal.sh scMitoMut_1.5.0.tar.gz /Library/Frameworks/R.framework/Resources/bin/R scMitoMut.buildbin-libdir StartedAt: 2025-10-29 01:57:29 -0400 (Wed, 29 Oct 2025) EndedAt: 2025-10-29 01:58:00 -0400 (Wed, 29 Oct 2025) EllapsedTime: 31.0 seconds RetCode: 0 Status: OK PackageFile: scMitoMut_1.5.0.tgz PackageFileSize: 1.304 MiB