Package: scMitoMut Version: 1.5.0 Command: /Library/Frameworks/R.framework/Resources/bin/R CMD INSTALL scMitoMut StartedAt: 2025-10-24 15:07:05 -0400 (Fri, 24 Oct 2025) EndedAt: 2025-10-24 15:07:20 -0400 (Fri, 24 Oct 2025) EllapsedTime: 15.0 seconds RetCode: 0 Status: OK