Package: scMitoMut Version: 1.5.0 Command: /Library/Frameworks/R.framework/Resources/bin/R CMD build --keep-empty-dirs --no-resave-data scMitoMut StartedAt: 2025-10-24 17:40:00 -0400 (Fri, 24 Oct 2025) EndedAt: 2025-10-24 17:40:16 -0400 (Fri, 24 Oct 2025) EllapsedTime: 15.2 seconds RetCode: 0 Status: OK PackageFile: scMitoMut_1.5.0.tar.gz PackageFileSize: 1.187 MiB