Package: scMerge Version: 1.25.1 Command: /home/biocbuild/bbs-3.22-bioc/R/bin/R CMD INSTALL scMerge StartedAt: 2025-10-24 16:05:37 -0400 (Fri, 24 Oct 2025) EndedAt: 2025-10-24 16:06:18 -0400 (Fri, 24 Oct 2025) EllapsedTime: 41.1 seconds RetCode: 0 Status: OK