Package: scMerge Version: 1.26.0 Command: /home/biocbuild/bbs-3.22-bioc/R/bin/R CMD check --install=check:scMerge.install-out.txt --library=/home/biocbuild/bbs-3.22-bioc/R/site-library --timings scMerge_1.26.0.tar.gz StartedAt: 2025-10-31 03:46:23 -0400 (Fri, 31 Oct 2025) EndedAt: 2025-10-31 03:55:57 -0400 (Fri, 31 Oct 2025) EllapsedTime: 574.4 seconds RetCode: 0 Status: OK CheckDir: scMerge.Rcheck Warnings: 0