Package: scMerge Version: 1.25.1 Command: /Library/Frameworks/R.framework/Resources/bin/R CMD INSTALL scMerge StartedAt: 2025-10-24 15:53:42 -0400 (Fri, 24 Oct 2025) EndedAt: 2025-10-24 15:54:39 -0400 (Fri, 24 Oct 2025) EllapsedTime: 57.2 seconds RetCode: 0 Status: OK