Package: scMerge Version: 1.25.1 Command: /Library/Frameworks/R.framework/Resources/bin/R CMD INSTALL scMerge StartedAt: 2025-10-24 15:32:27 -0400 (Fri, 24 Oct 2025) EndedAt: 2025-10-24 15:32:49 -0400 (Fri, 24 Oct 2025) EllapsedTime: 21.6 seconds RetCode: 0 Status: OK