Package: scMerge Version: 1.25.1 Command: rm -rf scMerge.buildbin-libdir && mkdir scMerge.buildbin-libdir && /Users/biocbuild/BBS/utils/build-universal.sh scMerge_1.25.1.tar.gz /Library/Frameworks/R.framework/Resources/bin/R scMerge.buildbin-libdir StartedAt: 2025-10-24 23:18:49 -0400 (Fri, 24 Oct 2025) EndedAt: 2025-10-24 23:19:07 -0400 (Fri, 24 Oct 2025) EllapsedTime: 18.3 seconds RetCode: 0 Status: OK PackageFile: scMerge_1.25.1.tgz PackageFileSize: 3.25 MiB