Package: scMerge Version: 1.25.1 Maintainer: Yingxin Lin MaintainerEmail: yingxin.lin at sydney.edu.au git_url: https://git.bioconductor.org/packages/scMerge git_branch: devel git_last_commit: 49cb40c git_last_commit_date: 2025-10-14 14:58:51 -0400 (Tue, 14 Oct 2025)