Package: scMET Version: 1.11.0 Command: /home/biocbuild/bbs-3.22-bioc/R/bin/R CMD INSTALL scMET StartedAt: 2025-10-24 15:44:11 -0400 (Fri, 24 Oct 2025) EndedAt: 2025-10-24 15:46:10 -0400 (Fri, 24 Oct 2025) EllapsedTime: 119.6 seconds RetCode: 0 Status: OK