Package: scMET Version: 1.11.0 Command: /home/biocbuild/bbs-3.22-bioc/R/bin/R CMD build --keep-empty-dirs --no-resave-data --md5 scMET StartedAt: 2025-10-24 20:02:57 -0400 (Fri, 24 Oct 2025) EndedAt: 2025-10-24 20:06:20 -0400 (Fri, 24 Oct 2025) EllapsedTime: 203.1 seconds RetCode: 0 Status: OK PackageFile: scMET_1.11.0.tar.gz PackageFileSize: 3.281 MiB