Package: scLANE Version: 1.0.0 Command: /Library/Frameworks/R.framework/Resources/bin/R CMD INSTALL scLANE StartedAt: 2025-10-31 15:20:44 -0400 (Fri, 31 Oct 2025) EndedAt: 2025-10-31 15:21:43 -0400 (Fri, 31 Oct 2025) EllapsedTime: 58.7 seconds RetCode: 0 Status: OK