Package: scLANE Version: 1.0.0 Command: /Library/Frameworks/R.framework/Resources/bin/R CMD build --keep-empty-dirs --no-resave-data scLANE StartedAt: 2025-11-02 18:41:54 -0500 (Sun, 02 Nov 2025) EndedAt: 2025-11-02 18:44:15 -0500 (Sun, 02 Nov 2025) EllapsedTime: 141.2 seconds RetCode: 0 Status: OK PackageFile: scLANE_1.0.0.tar.gz PackageFileSize: 4.645 MiB