Package: scLANE Version: 0.99.999999 Command: /Library/Frameworks/R.framework/Resources/bin/R CMD INSTALL scLANE StartedAt: 2025-10-24 15:08:10 -0400 (Fri, 24 Oct 2025) EndedAt: 2025-10-24 15:08:24 -0400 (Fri, 24 Oct 2025) EllapsedTime: 13.7 seconds RetCode: 0 Status: OK