Package: scLANE Version: 0.99.999999 Command: /Library/Frameworks/R.framework/Resources/bin/R CMD build --keep-empty-dirs --no-resave-data scLANE StartedAt: 2025-10-24 17:39:45 -0400 (Fri, 24 Oct 2025) EndedAt: 2025-10-24 17:40:24 -0400 (Fri, 24 Oct 2025) EllapsedTime: 38.5 seconds RetCode: 0 Status: OK PackageFile: scLANE_0.99.999999.tar.gz PackageFileSize: 4.723 MiB