Package: scHiCcompare Version: 1.1.0 Command: /home/biocbuild/bbs-3.22-bioc/R/bin/R CMD check --install=check:scHiCcompare.install-out.txt --library=/home/biocbuild/bbs-3.22-bioc/R/site-library --timings scHiCcompare_1.1.0.tar.gz StartedAt: 2025-10-25 03:50:23 -0400 (Sat, 25 Oct 2025) EndedAt: 2025-10-25 03:54:45 -0400 (Sat, 25 Oct 2025) EllapsedTime: 261.2 seconds RetCode: 0 Status: OK CheckDir: scHiCcompare.Rcheck Warnings: 0