Package: scHiCcompare Version: 1.1.0 Command: /Library/Frameworks/R.framework/Resources/bin/R CMD build --keep-empty-dirs --no-resave-data scHiCcompare StartedAt: 2025-10-27 18:32:03 -0400 (Mon, 27 Oct 2025) EndedAt: 2025-10-27 18:33:28 -0400 (Mon, 27 Oct 2025) EllapsedTime: 85.0 seconds RetCode: 0 Status: OK PackageFile: scHiCcompare_1.1.0.tar.gz PackageFileSize: 1.279 MiB