Package: scHiCcompare Version: 1.1.0 Command: rm -rf scHiCcompare.buildbin-libdir && mkdir scHiCcompare.buildbin-libdir && /Users/biocbuild/BBS/utils/build-universal.sh scHiCcompare_1.1.0.tar.gz /Library/Frameworks/R.framework/Resources/bin/R scHiCcompare.buildbin-libdir StartedAt: 2025-10-25 02:02:38 -0400 (Sat, 25 Oct 2025) EndedAt: 2025-10-25 02:03:22 -0400 (Sat, 25 Oct 2025) EllapsedTime: 43.8 seconds RetCode: 0 Status: OK PackageFile: scHiCcompare_1.1.0.tgz PackageFileSize: 1.273 MiB