Package: scHOT Version: 1.22.0 Command: /home/biocbuild/bbs-3.22-bioc/R/bin/R CMD check --install=check:scHOT.install-out.txt --library=/home/biocbuild/bbs-3.22-bioc/R/site-library --timings scHOT_1.22.0.tar.gz StartedAt: 2025-10-31 03:44:50 -0400 (Fri, 31 Oct 2025) EndedAt: 2025-10-31 03:50:53 -0400 (Fri, 31 Oct 2025) EllapsedTime: 362.2 seconds RetCode: 0 Status: OK CheckDir: scHOT.Rcheck Warnings: 0