Package: scHOT Version: 1.21.0 Command: /Library/Frameworks/R.framework/Resources/bin/R CMD INSTALL scHOT StartedAt: 2025-10-24 15:31:22 -0400 (Fri, 24 Oct 2025) EndedAt: 2025-10-24 15:32:00 -0400 (Fri, 24 Oct 2025) EllapsedTime: 38.3 seconds RetCode: 0 Status: OK