Package: scHOT Version: 1.21.0 Command: /Library/Frameworks/R.framework/Resources/bin/R CMD INSTALL scHOT StartedAt: 2025-10-24 15:17:20 -0400 (Fri, 24 Oct 2025) EndedAt: 2025-10-24 15:17:32 -0400 (Fri, 24 Oct 2025) EllapsedTime: 11.5 seconds RetCode: 0 Status: OK