Package: scHOT Version: 1.21.0 Command: /Library/Frameworks/R.framework/Resources/bin/R CMD build --keep-empty-dirs --no-resave-data scHOT StartedAt: 2025-10-24 17:39:16 -0400 (Fri, 24 Oct 2025) EndedAt: 2025-10-24 17:40:00 -0400 (Fri, 24 Oct 2025) EllapsedTime: 44.5 seconds RetCode: 0 Status: OK PackageFile: scHOT_1.21.0.tar.gz PackageFileSize: 2.315 MiB