Package: scGraphVerse Version: 0.99.21 Command: /home/biocbuild/bbs-3.22-bioc/R/bin/R CMD INSTALL scGraphVerse StartedAt: 2025-10-24 15:31:40 -0400 (Fri, 24 Oct 2025) EndedAt: 2025-10-24 15:32:10 -0400 (Fri, 24 Oct 2025) EllapsedTime: 29.9 seconds RetCode: 0 Status: OK