Package: scGraphVerse Version: 0.99.21 Command: /home/biocbuild/bbs-3.22-bioc/R/bin/R CMD check --install=check:scGraphVerse.install-out.txt --library=/home/biocbuild/bbs-3.22-bioc/R/site-library --timings scGraphVerse_0.99.21.tar.gz StartedAt: 2025-10-25 03:49:13 -0400 (Sat, 25 Oct 2025) EndedAt: 2025-10-25 04:11:00 -0400 (Sat, 25 Oct 2025) EllapsedTime: 1306.1 seconds RetCode: 0 Status: OK CheckDir: scGraphVerse.Rcheck Warnings: 0