Package: scGraphVerse Version: 0.99.21 Command: /home/biocbuild/bbs-3.22-bioc/R/bin/R CMD build --keep-empty-dirs --no-resave-data --md5 scGraphVerse StartedAt: 2025-10-24 20:00:58 -0400 (Fri, 24 Oct 2025) EndedAt: 2025-10-24 20:07:20 -0400 (Fri, 24 Oct 2025) EllapsedTime: 382.3 seconds RetCode: 0 Status: OK PackageFile: scGraphVerse_0.99.21.tar.gz PackageFileSize: 3.569 MiB