Package: scGraphVerse Version: 0.99.21 Command: /Library/Frameworks/R.framework/Resources/bin/R CMD build --keep-empty-dirs --no-resave-data scGraphVerse StartedAt: 2025-10-24 18:38:30 -0400 (Fri, 24 Oct 2025) EndedAt: 2025-10-24 18:45:32 -0400 (Fri, 24 Oct 2025) EllapsedTime: 422.5 seconds RetCode: 0 Status: OK PackageFile: scGraphVerse_0.99.21.tar.gz PackageFileSize: 3.669 MiB