Package: scGraphVerse Version: 0.99.21 Command: rm -rf scGraphVerse.buildbin-libdir && mkdir scGraphVerse.buildbin-libdir && /Users/biocbuild/BBS/utils/build-universal.sh scGraphVerse_0.99.21.tar.gz /Library/Frameworks/R.framework/Resources/bin/R scGraphVerse.buildbin-libdir StartedAt: 2025-10-25 02:02:35 -0400 (Sat, 25 Oct 2025) EndedAt: 2025-10-25 02:03:24 -0400 (Sat, 25 Oct 2025) EllapsedTime: 49.7 seconds RetCode: 0 Status: OK PackageFile: scGraphVerse_0.99.21.tgz PackageFileSize: 3.942 MiB