Package: scGraphVerse Version: 0.99.21 Command: /Library/Frameworks/R.framework/Resources/bin/R CMD INSTALL scGraphVerse StartedAt: 2025-10-24 15:16:25 -0400 (Fri, 24 Oct 2025) EndedAt: 2025-10-24 15:16:37 -0400 (Fri, 24 Oct 2025) EllapsedTime: 12.0 seconds RetCode: 0 Status: OK