Package: scGraphVerse Version: 0.99.21 Command: /Library/Frameworks/R.framework/Resources/bin/R CMD build --keep-empty-dirs --no-resave-data scGraphVerse StartedAt: 2025-10-24 17:39:04 -0400 (Fri, 24 Oct 2025) EndedAt: 2025-10-24 17:42:25 -0400 (Fri, 24 Oct 2025) EllapsedTime: 201.2 seconds RetCode: 0 Status: OK PackageFile: scGraphVerse_0.99.21.tar.gz PackageFileSize: 3.688 MiB