Package: scGraphVerse Version: 0.99.21 Maintainer: Francesco Cecere MaintainerEmail: francesco.cecerengs at gmail.com git_url: https://git.bioconductor.org/packages/scGraphVerse git_branch: devel git_last_commit: ba54489 git_last_commit_date: 2025-10-21 14:22:51 -0400 (Tue, 21 Oct 2025)