Package: scGPS Version: 1.23.0 Command: /home/biocbuild/bbs-3.22-bioc/R/bin/R CMD INSTALL scGPS StartedAt: 2025-10-24 15:33:20 -0400 (Fri, 24 Oct 2025) EndedAt: 2025-10-24 15:34:13 -0400 (Fri, 24 Oct 2025) EllapsedTime: 53.2 seconds RetCode: 0 Status: OK