Package: scGPS Version: 1.23.0 Command: /home/biocbuild/bbs-3.22-bioc/R/bin/R CMD build --keep-empty-dirs --no-resave-data --md5 scGPS StartedAt: 2025-10-24 20:00:57 -0400 (Fri, 24 Oct 2025) EndedAt: 2025-10-24 20:06:46 -0400 (Fri, 24 Oct 2025) EllapsedTime: 349.3 seconds RetCode: 0 Status: OK PackageFile: scGPS_1.23.0.tar.gz PackageFileSize: 2.023 MiB