Package: scGPS Version: 1.24.0 Command: /Library/Frameworks/R.framework/Resources/bin/R CMD INSTALL scGPS StartedAt: 2025-11-03 15:28:21 -0500 (Mon, 03 Nov 2025) EndedAt: 2025-11-03 15:29:27 -0500 (Mon, 03 Nov 2025) EllapsedTime: 65.2 seconds RetCode: 0 Status: OK